BEGIN:VCALENDAR
PRODID:-//eluceo/ical//2.0/EN
VERSION:2.0
CALSCALE:GREGORIAN
BEGIN:VEVENT
UID:5fb12c924b788713def5a54d7f72a242
DTSTAMP:20260421T191403Z
SUMMARY:Schwalbenberger Blütenfest
DESCRIPTION:Die Blütenstadt Werder a. d. Havel feierte vom 25.04. bis zum 
 03.05.2026 ihr 147. Blütenfest.Kurze Zeit darauf wollen wir mit unseren B
 ewohnenden unser Blütenfest im AWO Seniorenzentrum "Am Schwalbenberg" mit
  Musik und Tanz\, bei hoffentlich schönem Wetter\, feiern. Und vielleicht
  hat die dann neue Blütenkönigin ja auch Zeit uns zu besuchen und unsere
 n Bewohnenden für Fotos und Autogramme zur Verfügung zu stehen. Wir wür
 den uns sehr darüber freuen.
URL:https://awo-potsdam.de/de/veranstaltung/schwalbenberger-bluetenfest/
DTSTART:20260507T160000
DTEND:20260507T180000
LOCATION:
END:VEVENT
BEGIN:VTIMEZONE
TZID:Europe/Berlin
BEGIN:DAYLIGHT
DTSTART:20260507T160000
TZNAME:CEST
TZOFFSETTO:+0200
TZOFFSETFROM:+0200
END:DAYLIGHT
END:VTIMEZONE
END:VCALENDAR
