BEGIN:VCALENDAR
PRODID:-//eluceo/ical//2.0/EN
VERSION:2.0
CALSCALE:GREGORIAN
BEGIN:VEVENT
UID:9697171b0e235c31e71fbfec80f351e0
DTSTAMP:20260424T083616Z
SUMMARY:Seniorencafé
DESCRIPTION:Kaffee/Tee und Kuchen in geselliger Rund.
URL:https://awo-potsdam.de/de/veranstaltung/seniorencafe-2/
DTSTART:20260601T140000
DTEND:20260601T160000
LOCATION:Familienzentrum Niemegk
END:VEVENT
BEGIN:VTIMEZONE
TZID:Europe/Berlin
BEGIN:DAYLIGHT
DTSTART:20260601T140000
TZNAME:CEST
TZOFFSETTO:+0200
TZOFFSETFROM:+0200
END:DAYLIGHT
END:VTIMEZONE
END:VCALENDAR
