BEGIN:VCALENDAR
PRODID:-//eluceo/ical//2.0/EN
VERSION:2.0
CALSCALE:GREGORIAN
BEGIN:VEVENT
UID:fff383b227e3d943d041fb9cf1f6b463
DTSTAMP:20260421T185011Z
SUMMARY:Seniorensport
DESCRIPTION:Einfache Gymnastikübungen im Stehen oder Sitzen. Martina Beuth
 er zeigt leichte Übungen für Arme\, Beine\, für die Rumpfmuskulatur ode
 r auch das Gleichgewicht.
URL:https://awo-potsdam.de/de/veranstaltung/seniorensport-6/
DTSTART:20260511T110000
DTEND:20260511T110000
LOCATION:
END:VEVENT
BEGIN:VTIMEZONE
TZID:Europe/Berlin
BEGIN:DAYLIGHT
DTSTART:20260511T110000
TZNAME:CEST
TZOFFSETTO:+0200
TZOFFSETFROM:+0200
END:DAYLIGHT
END:VTIMEZONE
END:VCALENDAR
