BEGIN:VCALENDAR
PRODID:-//eluceo/ical//2.0/EN
VERSION:2.0
CALSCALE:GREGORIAN
BEGIN:VEVENT
UID:f27ef7ad9284ac46b7bd1857bc25d46a
DTSTAMP:20260426T011708Z
SUMMARY:Singkreis
DESCRIPTION:
URL:https://awo-potsdam.de/de/veranstaltung/singkreis/
DTSTART:20250806T140000
DTEND:20250806T160000
LOCATION:AWO Begegnungsstätte
END:VEVENT
BEGIN:VTIMEZONE
TZID:Europe/Berlin
BEGIN:DAYLIGHT
DTSTART:20250806T140000
TZNAME:CEST
TZOFFSETTO:+0200
TZOFFSETFROM:+0200
END:DAYLIGHT
END:VTIMEZONE
END:VCALENDAR
