BEGIN:VCALENDAR
PRODID:-//eluceo/ical//2.0/EN
VERSION:2.0
CALSCALE:GREGORIAN
BEGIN:VEVENT
UID:ec982d8ce978b09a59db1eea8d52eb37
DTSTAMP:20260425T190427Z
SUMMARY:AWO-Sommerfest für Senioren
DESCRIPTION:Verbringen Sie mit uns fröhliche Stunden bei Tanz und guter Un
 terhaltung\nEs gibt wieder leckere Bratwurst vom Grill und kalte Getränke
 \nEintritt: 10\,00 € pro Person
URL:https://awo-potsdam.de/de/veranstaltung/sommerfest-fuer-senioren/
DTSTART:20260716T140000
DTEND:20260716T180000
LOCATION:Kulturhaus "Johannes R. Becher"
END:VEVENT
BEGIN:VTIMEZONE
TZID:Europe/Berlin
BEGIN:DAYLIGHT
DTSTART:20260716T140000
TZNAME:CEST
TZOFFSETTO:+0200
TZOFFSETFROM:+0200
END:DAYLIGHT
END:VTIMEZONE
END:VCALENDAR
