BEGIN:VCALENDAR
PRODID:-//eluceo/ical//2.0/EN
VERSION:2.0
CALSCALE:GREGORIAN
BEGIN:VEVENT
UID:cc86086fc874974796a5f03ab9d8b2de
DTSTAMP:20260423T201439Z
SUMMARY:Sommerfest OV Falkensee
DESCRIPTION:
URL:https://awo-potsdam.de/de/veranstaltung/sommerfest-ov-falkensee/
DTSTART:20250709T140000
DTEND:20250709T180000
LOCATION:Freigelände Kulturhaus J.-R.-Becher
END:VEVENT
BEGIN:VTIMEZONE
TZID:Europe/Berlin
BEGIN:DAYLIGHT
DTSTART:20250709T140000
TZNAME:CEST
TZOFFSETTO:+0200
TZOFFSETFROM:+0200
END:DAYLIGHT
END:VTIMEZONE
END:VCALENDAR
