BEGIN:VCALENDAR
PRODID:-//eluceo/ical//2.0/EN
VERSION:2.0
CALSCALE:GREGORIAN
BEGIN:VEVENT
UID:b238584a69c5f0c3497b95f1c6cd54f9
DTSTAMP:20260423T203516Z
SUMMARY:Sozialsprechstunde
DESCRIPTION:Rechtsberatung zum Thema Miete\, Arbeit\, Ämter\, Justiz\, Job
 center oder Schule\nkostenfrei
URL:https://awo-potsdam.de/de/veranstaltung/sozialsprechstunde-6/
DTSTART:20260526T140000
DTEND:20260526T160000
LOCATION:
END:VEVENT
BEGIN:VTIMEZONE
TZID:Europe/Berlin
BEGIN:DAYLIGHT
DTSTART:20260526T140000
TZNAME:CEST
TZOFFSETTO:+0200
TZOFFSETFROM:+0200
END:DAYLIGHT
END:VTIMEZONE
END:VCALENDAR
