BEGIN:VCALENDAR
PRODID:-//eluceo/ical//2.0/EN
VERSION:2.0
CALSCALE:GREGORIAN
BEGIN:VEVENT
UID:680111a11bda42cbfb0f78bde1a23055
DTSTAMP:20260421T171908Z
SUMMARY:Sozialsprechstunde
DESCRIPTION:Rechtsberatung zum Thema Miete\, Arbeit\, Ämter\, Justiz\, Job
 center oder Schule\nkostenfrei
URL:https://awo-potsdam.de/de/veranstaltung/sozialsprechstunde-8/
DTSTART:20260512T140000
DTEND:20260512T160000
LOCATION:
END:VEVENT
BEGIN:VTIMEZONE
TZID:Europe/Berlin
BEGIN:DAYLIGHT
DTSTART:20260512T140000
TZNAME:CEST
TZOFFSETTO:+0200
TZOFFSETFROM:+0200
END:DAYLIGHT
END:VTIMEZONE
END:VCALENDAR
