BEGIN:VCALENDAR
PRODID:-//eluceo/ical//2.0/EN
VERSION:2.0
CALSCALE:GREGORIAN
BEGIN:VEVENT
UID:085621d582d25be571824475d46cb060
DTSTAMP:20260423T075956Z
SUMMARY:Spiel- und Krabbelraum im TRollberg
DESCRIPTION:Andere Kinder treffen\, mit anderen Eltern sprechen\, gemeinsam
  spielen\, singen\, krabbeln und brabbeln. Voneinander lernen\, sich gegen
 seitig inspirieren und eine schöne Zeit miteinander verbringen.\nDas Fami
 lienzentrum im TRollberg lädt Mamas und Papas von Babys ab 3 Monaten in d
 as Familienzentrum ein. Ältere Geschwisterkinder sind auch willkommen. Wi
 r bieten einen geschützten Raum mit einer großen Krabbelfläche\, ausges
 tattet mit verschiedenen altersgerechten Kletter- und Spielgeräten\, Spie
 lzeug\, Instrumenten und dazu passenden Ideen und Anregungen.\nMusik und B
 ewegung sind immer Bestandteil unserer Treffen\, aber auch kleine kreative
  Aktionen rund um das Kinderzimmer und fachliche Beratungen zu allen wicht
 igen Babythemen werden aufgegriffen und bearbeitet.
URL:https://awo-potsdam.de/de/veranstaltung/spiel-und-krabbelraum-im-trollb
 erg-12/
DTSTART:20250404T093000
DTEND:20250404T110000
LOCATION:AWO Familienzentrum im TRollberg
END:VEVENT
BEGIN:VTIMEZONE
TZID:Europe/Berlin
BEGIN:DAYLIGHT
DTSTART:20250404T093000
TZNAME:CEST
TZOFFSETTO:+0200
TZOFFSETFROM:+0200
END:DAYLIGHT
END:VTIMEZONE
END:VCALENDAR
