BEGIN:VCALENDAR
PRODID:-//eluceo/ical//2.0/EN
VERSION:2.0
CALSCALE:GREGORIAN
BEGIN:VEVENT
UID:f9157525019f20fd0c3851c30fee2633
DTSTAMP:20260425T164823Z
SUMMARY:Spielenachmittag
DESCRIPTION:Rommé\, Skat\, Skipbo oder doch mal ein anderes Spiel? Ihr ent
 scheidet!\n 
URL:https://awo-potsdam.de/de/veranstaltung/spielenachmittag-33/
DTSTART:20260119T140000
DTEND:20260119T163000
LOCATION:Café Integra
END:VEVENT
BEGIN:VTIMEZONE
TZID:Europe/Berlin
BEGIN:STANDARD
DTSTART:20260119T140000
TZNAME:CET
TZOFFSETTO:+0100
TZOFFSETFROM:+0100
END:STANDARD
END:VTIMEZONE
END:VCALENDAR
