BEGIN:VCALENDAR
PRODID:-//eluceo/ical//2.0/EN
VERSION:2.0
CALSCALE:GREGORIAN
BEGIN:VEVENT
UID:8f534857edc8ba89a038974bce3f187a
DTSTAMP:20260423T090406Z
SUMMARY:Spielnachmittag
DESCRIPTION:
URL:https://awo-potsdam.de/de/veranstaltung/spielnachmittag-33/
DTSTART:20260505T120000
DTEND:20260505T160000
LOCATION:
END:VEVENT
BEGIN:VTIMEZONE
TZID:Europe/Berlin
BEGIN:DAYLIGHT
DTSTART:20260505T120000
TZNAME:CEST
TZOFFSETTO:+0200
TZOFFSETFROM:+0200
END:DAYLIGHT
END:VTIMEZONE
END:VCALENDAR
