BEGIN:VCALENDAR
PRODID:-//eluceo/ical//2.0/EN
VERSION:2.0
CALSCALE:GREGORIAN
BEGIN:VEVENT
UID:ef5021e9ef8cb2ac1dacb9a81acd4a1d
DTSTAMP:20260421T171723Z
SUMMARY:Spielnachmittag
DESCRIPTION:
URL:https://awo-potsdam.de/de/veranstaltung/spielnachmittag-34/
DTSTART:20260519T120000
DTEND:20260519T160000
LOCATION:
END:VEVENT
BEGIN:VTIMEZONE
TZID:Europe/Berlin
BEGIN:DAYLIGHT
DTSTART:20260519T120000
TZNAME:CEST
TZOFFSETTO:+0200
TZOFFSETFROM:+0200
END:DAYLIGHT
END:VTIMEZONE
END:VCALENDAR
