BEGIN:VCALENDAR
PRODID:-//eluceo/ical//2.0/EN
VERSION:2.0
CALSCALE:GREGORIAN
BEGIN:VEVENT
UID:951f289209df902ab6266a70831d31d1
DTSTAMP:20260421T185319Z
SUMMARY:Spielnachmittag
DESCRIPTION:
URL:https://awo-potsdam.de/de/veranstaltung/spielnachmittag-35/
DTSTART:20260526T120000
DTEND:20260526T160000
LOCATION:
END:VEVENT
BEGIN:VTIMEZONE
TZID:Europe/Berlin
BEGIN:DAYLIGHT
DTSTART:20260526T120000
TZNAME:CEST
TZOFFSETTO:+0200
TZOFFSETFROM:+0200
END:DAYLIGHT
END:VTIMEZONE
END:VCALENDAR
