BEGIN:VCALENDAR
PRODID:-//eluceo/ical//2.0/EN
VERSION:2.0
CALSCALE:GREGORIAN
BEGIN:VEVENT
UID:1810cf049e91c7b0a0d695b4f7c9acb3
DTSTAMP:20260421T205550Z
SUMMARY:Stuhl-Yoga
DESCRIPTION:Stuhl-Yoga\nmit Heide Müller
URL:https://awo-potsdam.de/de/veranstaltung/stuhl-yoga/
DTSTART:20260303T170000
DTEND:20260303T183000
LOCATION:Räume im AWO Mehrgenerationenhaus „Alte Korbmacherei“
END:VEVENT
BEGIN:VTIMEZONE
TZID:Europe/Berlin
BEGIN:STANDARD
DTSTART:20260303T170000
TZNAME:CET
TZOFFSETTO:+0100
TZOFFSETFROM:+0100
END:STANDARD
END:VTIMEZONE
END:VCALENDAR
