BEGIN:VCALENDAR
PRODID:-//eluceo/ical//2.0/EN
VERSION:2.0
CALSCALE:GREGORIAN
BEGIN:VEVENT
UID:d3422b17236dd700df59cf99f9c505fc
DTSTAMP:20260421T205601Z
SUMMARY:Tanzgruppe ab 50
DESCRIPTION:Tanzgruppe ab 50\nmit Margot Lux
URL:https://awo-potsdam.de/de/veranstaltung/tanzgruppe-ab-50/
DTSTART:20260303T170000
DTEND:20260303T183000
LOCATION:Räume im AWO Mehrgenerationenhaus "Alte Korbmacherei"
END:VEVENT
BEGIN:VTIMEZONE
TZID:Europe/Berlin
BEGIN:STANDARD
DTSTART:20260303T170000
TZNAME:CET
TZOFFSETTO:+0100
TZOFFSETFROM:+0100
END:STANDARD
END:VTIMEZONE
END:VCALENDAR
