BEGIN:VCALENDAR
PRODID:-//eluceo/ical//2.0/EN
VERSION:2.0
CALSCALE:GREGORIAN
BEGIN:VEVENT
UID:e23ce877c806558b80990d9060e472f3
DTSTAMP:20260420T225547Z
SUMMARY:Töpferwerkstatt mit Karin Schulz
DESCRIPTION:Kinder\, Jugendliche und Erwachsene sind willkommen unter fachl
 icher Anleitung zu Töpfern. Teilnahmebeitrag 2€ / Treffen plus Material
 kosten.\nAnmeldung direkt bei Karin Schulz\, Tel: 033843-51525.
URL:https://awo-potsdam.de/de/veranstaltung/toepferwerkstatt-mit-karin-schu
 lz/
DTSTART:20260429T160000
DTEND:20260429T180000
LOCATION:Familienzentrum Niemegk
END:VEVENT
BEGIN:VTIMEZONE
TZID:Europe/Berlin
BEGIN:DAYLIGHT
DTSTART:20260429T160000
TZNAME:CEST
TZOFFSETTO:+0200
TZOFFSETFROM:+0200
END:DAYLIGHT
END:VTIMEZONE
END:VCALENDAR
