BEGIN:VCALENDAR
PRODID:-//eluceo/ical//2.0/EN
VERSION:2.0
CALSCALE:GREGORIAN
BEGIN:VEVENT
UID:652355afaae509073bedbcd22c0f379c
DTSTAMP:20260421T172005Z
SUMMARY:Treff im Jugendraum mit Marika
DESCRIPTION:Offener Treff für Kinder ab 10 Jahren und Jugendliche.\nDu suc
 hst einen Ort\, an dem du chillen\, Spaß haben und neue Leute kennenlerne
 n kannst? Dann komm in unseren offenen Jugendtreff! Hier gibt es Spiele\, 
 kreative Projekte\, gute Gespräche und einfach eine entspannte Atmosphär
 e. Wir freuen uns auf dich!
URL:https://awo-potsdam.de/de/veranstaltung/treff-im-jugendraum-mit-marika-
 18/
DTSTART:20260625T160000
DTEND:20260625T180000
LOCATION:Jugendraum
END:VEVENT
BEGIN:VTIMEZONE
TZID:Europe/Berlin
BEGIN:DAYLIGHT
DTSTART:20260625T160000
TZNAME:CEST
TZOFFSETTO:+0200
TZOFFSETFROM:+0200
END:DAYLIGHT
END:VTIMEZONE
END:VCALENDAR
