BEGIN:VCALENDAR
PRODID:-//eluceo/ical//2.0/EN
VERSION:2.0
CALSCALE:GREGORIAN
BEGIN:VEVENT
UID:76dd695f083aad846c1c6df286b5e03a
DTSTAMP:20260421T171641Z
SUMMARY:Treffen der Strickgruppe
DESCRIPTION:
URL:https://awo-potsdam.de/de/veranstaltung/treffen-der-strickgruppe-30/
DTSTART:20260521T100000
DTEND:20260521T130000
LOCATION:
END:VEVENT
BEGIN:VTIMEZONE
TZID:Europe/Berlin
BEGIN:DAYLIGHT
DTSTART:20260521T100000
TZNAME:CEST
TZOFFSETTO:+0200
TZOFFSETFROM:+0200
END:DAYLIGHT
END:VTIMEZONE
END:VCALENDAR
