BEGIN:VCALENDAR
PRODID:-//eluceo/ical//2.0/EN
VERSION:2.0
CALSCALE:GREGORIAN
BEGIN:VEVENT
UID:c84ad9bbef35ee284c02ce9c282de7c6
DTSTAMP:20260421T171641Z
SUMMARY:Treffen der Strickgruppe
DESCRIPTION:
URL:https://awo-potsdam.de/de/veranstaltung/treffen-der-strickgruppe-33/
DTSTART:20260507T100000
DTEND:20260507T130000
LOCATION:
END:VEVENT
BEGIN:VTIMEZONE
TZID:Europe/Berlin
BEGIN:DAYLIGHT
DTSTART:20260507T100000
TZNAME:CEST
TZOFFSETTO:+0200
TZOFFSETFROM:+0200
END:DAYLIGHT
END:VTIMEZONE
END:VCALENDAR
