BEGIN:VCALENDAR
PRODID:-//eluceo/ical//2.0/EN
VERSION:2.0
CALSCALE:GREGORIAN
BEGIN:VEVENT
UID:6c3a57572fbce5e41430e8ad46130211
DTSTAMP:20260421T185533Z
SUMMARY:Treffen der Strickgruppe
DESCRIPTION:
URL:https://awo-potsdam.de/de/veranstaltung/treffen-der-strickgruppe-35/
DTSTART:20260528T100000
DTEND:20260528T130000
LOCATION:
END:VEVENT
BEGIN:VTIMEZONE
TZID:Europe/Berlin
BEGIN:DAYLIGHT
DTSTART:20260528T100000
TZNAME:CEST
TZOFFSETTO:+0200
TZOFFSETFROM:+0200
END:DAYLIGHT
END:VTIMEZONE
END:VCALENDAR
