BEGIN:VCALENDAR
PRODID:-//eluceo/ical//2.0/EN
VERSION:2.0
CALSCALE:GREGORIAN
BEGIN:VEVENT
UID:80af2ea1b9927f0fab3dd48c6d752d25
DTSTAMP:20260423T182706Z
SUMMARY:Ü60 – Frühstück
DESCRIPTION:Eine Initiative von „Pflege vor Ort“ - der Akademie 2. Lebe
 nshälfte e.V..\nAnmeldung erwünscht TEL: +49 3328 33 10 964
URL:https://awo-potsdam.de/de/veranstaltung/ue60-fruehstueck-8/
DTSTART:20260422T100000
DTEND:20260422T120000
LOCATION:
END:VEVENT
BEGIN:VTIMEZONE
TZID:Europe/Berlin
BEGIN:DAYLIGHT
DTSTART:20260422T100000
TZNAME:CEST
TZOFFSETTO:+0200
TZOFFSETFROM:+0200
END:DAYLIGHT
END:VTIMEZONE
END:VCALENDAR
