BEGIN:VCALENDAR
PRODID:-//eluceo/ical//2.0/EN
VERSION:2.0
CALSCALE:GREGORIAN
BEGIN:VEVENT
UID:284e9d1c333a2a4d792dbaff8aac02f6
DTSTAMP:20260421T171841Z
SUMMARY:Ü60 – Frühstück
DESCRIPTION:Eine Initiative von „Pflege vor Ort“ - der Akademie 2. Lebe
 nshälfte e.V..\nAnmeldung erwünscht TEL: +49 3328 33 10 964
URL:https://awo-potsdam.de/de/veranstaltung/ue60-fruehstueck-9/
DTSTART:20260527T100000
DTEND:20260527T120000
LOCATION:
END:VEVENT
BEGIN:VTIMEZONE
TZID:Europe/Berlin
BEGIN:DAYLIGHT
DTSTART:20260527T100000
TZNAME:CEST
TZOFFSETTO:+0200
TZOFFSETFROM:+0200
END:DAYLIGHT
END:VTIMEZONE
END:VCALENDAR
