BEGIN:VCALENDAR
PRODID:-//eluceo/ical//2.0/EN
VERSION:2.0
CALSCALE:GREGORIAN
BEGIN:VEVENT
UID:2faa3a1ac770aa34ab059fafd3fdc34c
DTSTAMP:20260423T085248Z
SUMMARY:Verkehrsteilnehmerschulung "sicher und mobil"
DESCRIPTION:Die Verkehrsteilnehmerschulung richtet sich speziell an Seniori
 nnen und Senioren. Sie soll dabei unterstützen\, sich sicher im Straßenv
 erkehr zu bewegen – sei es zu Fuß\, mit oder ohne Rollator\, mit dem Fa
 hrrad\, mit öffentlichen Verkehrsmitteln oder dem Auto.\n \n 
URL:https://awo-potsdam.de/de/veranstaltung/verkehrsteilnehmerschulung/
DTSTART:20260318T100000
DTEND:20260318T113000
LOCATION:Familienzentrum Niemegk
END:VEVENT
BEGIN:VTIMEZONE
TZID:Europe/Berlin
BEGIN:STANDARD
DTSTART:20260318T100000
TZNAME:CET
TZOFFSETTO:+0100
TZOFFSETFROM:+0100
END:STANDARD
END:VTIMEZONE
END:VCALENDAR
