BEGIN:VCALENDAR
PRODID:-//eluceo/ical//2.0/EN
VERSION:2.0
CALSCALE:GREGORIAN
BEGIN:VEVENT
UID:ba27e6be21d2e99b106168cc26b07c1f
DTSTAMP:20260425T190757Z
SUMMARY:Weihnachtsbasteln
DESCRIPTION:
URL:https://awo-potsdam.de/de/veranstaltung/weihnachtsbasteln-3/
DTSTART:20241126T100000
DTEND:20241126T100000
LOCATION:
END:VEVENT
BEGIN:VTIMEZONE
TZID:Europe/Berlin
BEGIN:STANDARD
DTSTART:20241126T100000
TZNAME:CET
TZOFFSETTO:+0100
TZOFFSETFROM:+0100
END:STANDARD
END:VTIMEZONE
END:VCALENDAR
