BEGIN:VCALENDAR
PRODID:-//eluceo/ical//2.0/EN
VERSION:2.0
CALSCALE:GREGORIAN
BEGIN:VEVENT
UID:2c909e0cf598e4e48a06aee5d51f08ba
DTSTAMP:20260422T063527Z
SUMMARY:Weiterbildung neuer Bildungsplan
DESCRIPTION:Der Hort ist ganztägig geschlossen.\nAn diesem Tag gibt es kei
 n Mittagessen.Die Abmeldung der Mittagsversorgung übernimmt der Hort!
URL:https://awo-potsdam.de/de/veranstaltung/weiterbildung-neuer-bildungspla
 n/
DTSTART:20250206T000000
DTEND:20250207T235959
LOCATION:
END:VEVENT
BEGIN:VTIMEZONE
TZID:Europe/Berlin
BEGIN:STANDARD
DTSTART:20250206T000000
TZNAME:CET
TZOFFSETTO:+0100
TZOFFSETFROM:+0100
END:STANDARD
END:VTIMEZONE
END:VCALENDAR
