BEGIN:VCALENDAR
PRODID:-//eluceo/ical//2.0/EN
VERSION:2.0
CALSCALE:GREGORIAN
BEGIN:VEVENT
UID:344005c92aa6f54fb5e2f09503d2e12b
DTSTAMP:20260423T151219Z
SUMMARY:Wii Bowlingnachmittag
DESCRIPTION:Wir spielen Bowling mit der Wii.
URL:https://awo-potsdam.de/de/veranstaltung/wii-bowlingnachmittag-8/
DTSTART:20260521T130000
DTEND:20260521T130000
LOCATION:
END:VEVENT
BEGIN:VTIMEZONE
TZID:Europe/Berlin
BEGIN:DAYLIGHT
DTSTART:20260521T130000
TZNAME:CEST
TZOFFSETTO:+0200
TZOFFSETFROM:+0200
END:DAYLIGHT
END:VTIMEZONE
END:VCALENDAR
