BEGIN:VCALENDAR
PRODID:-//eluceo/ical//2.0/EN
VERSION:2.0
CALSCALE:GREGORIAN
BEGIN:VEVENT
UID:16f8b54d7e0bf3c10422122a77faf387
DTSTAMP:20260419T201403Z
SUMMARY:Willkommen- Baby- Frühstück
DESCRIPTION:Frühstück für werdende Eltern und Eltern mit Babys. Bitte me
 ldet euch an.
URL:https://awo-potsdam.de/de/veranstaltung/willkommen-baby-fruehstueck-2/
DTSTART:20260429T093000
DTEND:20260429T110000
LOCATION:Familienzentrum Niemegk
END:VEVENT
BEGIN:VTIMEZONE
TZID:Europe/Berlin
BEGIN:DAYLIGHT
DTSTART:20260429T093000
TZNAME:CEST
TZOFFSETTO:+0200
TZOFFSETFROM:+0200
END:DAYLIGHT
END:VTIMEZONE
END:VCALENDAR
