BEGIN:VCALENDAR
PRODID:-//eluceo/ical//2.0/EN
VERSION:2.0
CALSCALE:GREGORIAN
BEGIN:VEVENT
UID:20cb1fa64b9ebff9a58876b60c83adc3
DTSTAMP:20260419T200715Z
SUMMARY:Willkommen- Baby- Frühstück
DESCRIPTION:Frühstück für werdende Eltern und Eltern mit Babys. Bitte me
 ldet euch an.
URL:https://awo-potsdam.de/de/veranstaltung/willkommen-baby-fruehstueck/
DTSTART:20260325T093000
DTEND:20260325T110000
LOCATION:Familienzentrum Niemegk
END:VEVENT
BEGIN:VTIMEZONE
TZID:Europe/Berlin
BEGIN:STANDARD
DTSTART:20260325T093000
TZNAME:CET
TZOFFSETTO:+0100
TZOFFSETFROM:+0100
END:STANDARD
END:VTIMEZONE
END:VCALENDAR
