BEGIN:VCALENDAR
PRODID:-//eluceo/ical//2.0/EN
VERSION:2.0
CALSCALE:GREGORIAN
BEGIN:VEVENT
UID:049d8477bf05934013e261815db4872f
DTSTAMP:20260421T172036Z
SUMMARY:Wo ist meine Brille? - Gedächtnistraining
DESCRIPTION:Wir trainieren spielerisch unser Gedächtnis mit kleinen Übung
 en\, der Spaß kommt nicht zu kurz.
URL:https://awo-potsdam.de/de/veranstaltung/wo-ist-meine-brille-gedaechtnis
 training-2/
DTSTART:20260527T140000
DTEND:20260527T140000
LOCATION:
END:VEVENT
BEGIN:VTIMEZONE
TZID:Europe/Berlin
BEGIN:DAYLIGHT
DTSTART:20260527T140000
TZNAME:CEST
TZOFFSETTO:+0200
TZOFFSETFROM:+0200
END:DAYLIGHT
END:VTIMEZONE
END:VCALENDAR
