BEGIN:VCALENDAR
PRODID:-//eluceo/ical//2.0/EN
VERSION:2.0
CALSCALE:GREGORIAN
BEGIN:VEVENT
UID:c96edab9f430a6bb8f2660de94f4ba7c
DTSTAMP:20260420T225239Z
SUMMARY:Wollcafé mit Mara Kroll
DESCRIPTION:Nadelspiele bei Kaffee und Geplauder. Wir freuen uns auf Jung u
 nd Alt.
URL:https://awo-potsdam.de/de/veranstaltung/wollcafe-mit-mara-kroll-2/
DTSTART:20260430T160000
DTEND:20260430T180000
LOCATION:Familienzentrum Niemegk
END:VEVENT
BEGIN:VTIMEZONE
TZID:Europe/Berlin
BEGIN:DAYLIGHT
DTSTART:20260430T160000
TZNAME:CEST
TZOFFSETTO:+0200
TZOFFSETFROM:+0200
END:DAYLIGHT
END:VTIMEZONE
END:VCALENDAR
