BEGIN:VCALENDAR
PRODID:-//eluceo/ical//2.0/EN
VERSION:2.0
CALSCALE:GREGORIAN
BEGIN:VEVENT
UID:54feecc24e5b00473577822fe00363df
DTSTAMP:20260424T083726Z
SUMMARY:Wollcafé mit Mara Kroll
DESCRIPTION:Nadelspiele bei Kaffee und Geplauder. Wir freuen uns auf Jung u
 nd Alt.
URL:https://awo-potsdam.de/de/veranstaltung/wollcafe-mit-mara-kroll-5/
DTSTART:20260528T160000
DTEND:20260528T180000
LOCATION:Familienzentrum Niemegk
END:VEVENT
BEGIN:VTIMEZONE
TZID:Europe/Berlin
BEGIN:DAYLIGHT
DTSTART:20260528T160000
TZNAME:CEST
TZOFFSETTO:+0200
TZOFFSETFROM:+0200
END:DAYLIGHT
END:VTIMEZONE
END:VCALENDAR
