BEGIN:VCALENDAR
PRODID:-//eluceo/ical//2.0/EN
VERSION:2.0
CALSCALE:GREGORIAN
BEGIN:VEVENT
UID:e19ce95f246b260e30208bfc35b94b6c
DTSTAMP:20260424T100630Z
SUMMARY:Wollcafé mit Mara Kroll
DESCRIPTION:Nadelspiele bei Kaffee und Geplauder. Wir freuen uns auf Jung u
 nd Alt.
URL:https://awo-potsdam.de/de/veranstaltung/wollcafe-mit-mara-kroll-6/
DTSTART:20260604T160000
DTEND:20260604T180000
LOCATION:Familienzentrum Niemegk
END:VEVENT
BEGIN:VTIMEZONE
TZID:Europe/Berlin
BEGIN:DAYLIGHT
DTSTART:20260604T160000
TZNAME:CEST
TZOFFSETTO:+0200
TZOFFSETFROM:+0200
END:DAYLIGHT
END:VTIMEZONE
END:VCALENDAR
