BEGIN:VCALENDAR
PRODID:-//eluceo/ical//2.0/EN
VERSION:2.0
CALSCALE:GREGORIAN
BEGIN:VEVENT
UID:4ca99f96d2c1359ceb366c273091315c
DTSTAMP:20260420T225335Z
SUMMARY:Wollcafé mit Mara Kroll
DESCRIPTION:Nadelspiele bei Kaffee und Geplauder. Wir freuen uns auf Jung u
 nd Alt.
URL:https://awo-potsdam.de/de/veranstaltung/wollcafe-mit-mara-kroll-7/
DTSTART:20260611T160000
DTEND:20260611T180000
LOCATION:Familienzentrum Niemegk
END:VEVENT
BEGIN:VTIMEZONE
TZID:Europe/Berlin
BEGIN:DAYLIGHT
DTSTART:20260611T160000
TZNAME:CEST
TZOFFSETTO:+0200
TZOFFSETFROM:+0200
END:DAYLIGHT
END:VTIMEZONE
END:VCALENDAR
