BEGIN:VCALENDAR
PRODID:-//eluceo/ical//2.0/EN
VERSION:2.0
CALSCALE:GREGORIAN
BEGIN:VEVENT
UID:45ec34dfb584587c1ffffe666864e665
DTSTAMP:20260424T113107Z
SUMMARY:Workshop: FLINTA* Kreativ-Gruppe
DESCRIPTION:Die Kreativ-Gruppe ist für erwachsene FLINTA-Personen.\nBastel
 n\, malen oder an eigenen Projekten arbeiten – hier ist alles möglich.\
 nDie Gruppe hat Platz für höchstens 8 Personen\, daher...\nmelde dich bi
 tte an: woma-potsdam@creso-online.de\nweitere Infos: https://www.potsdam.d
 e/de/veranstaltung/flinta-kreativ-gruppe\n 
URL:https://awo-potsdam.de/de/veranstaltung/workshop-flinta-kreativ-gruppe/
DTSTART:20260430T140000
DTEND:20260430T163000
LOCATION:
END:VEVENT
BEGIN:VTIMEZONE
TZID:Europe/Berlin
BEGIN:DAYLIGHT
DTSTART:20260430T140000
TZNAME:CEST
TZOFFSETTO:+0200
TZOFFSETFROM:+0200
END:DAYLIGHT
END:VTIMEZONE
END:VCALENDAR
