BEGIN:VCALENDAR
PRODID:-//eluceo/ical//2.0/EN
VERSION:2.0
CALSCALE:GREGORIAN
BEGIN:VEVENT
UID:6b2df3d9a9f426857eb9532432d366ae
DTSTAMP:20260421T172040Z
SUMMARY:Zumba - eine Mischung aus Tanz & Aerobic
DESCRIPTION:Für Menschen mit und ohne Behinderung.\nEine Veranstaltung des
  Teltower Inklusionsbüros (TIB).
URL:https://awo-potsdam.de/de/veranstaltung/zumba-eine-mischung-aus-tanz-ae
 robic/
DTSTART:20260427T153000
DTEND:20260427T153000
LOCATION:
END:VEVENT
BEGIN:VTIMEZONE
TZID:Europe/Berlin
BEGIN:DAYLIGHT
DTSTART:20260427T153000
TZNAME:CEST
TZOFFSETTO:+0200
TZOFFSETFROM:+0200
END:DAYLIGHT
END:VTIMEZONE
END:VCALENDAR
